BEGIN:VCALENDAR
VERSION:2.0
PRODID:-//DP Pro Event Calendar//3.2.7//EN
BEGIN:VEVENT
UID:255ba4e3-1875-4d9d-9492-52c332687fa0
DTSTART;TZID=Europe/London:20250129T075000
DTEND;TZID=Europe/London:20260419T080000
DTSTAMP:20260129T112411Z
SUMMARY:YR Reading Morning
DESCRIPTION:
LOCATION:
URL:
END:VEVENT
END:VCALENDAR