BEGIN:VCALENDAR
VERSION:2.0
PRODID:-//DP Pro Event Calendar//3.2.7//EN
BEGIN:VEVENT
UID:593e7512-ff70-4624-9522-65f52feebeeb
DTSTART;TZID=Europe/London:20250404T143000
DTEND;TZID=Europe/London:20260425T150000
DTSTAMP:20260402T152029Z
SUMMARY:END OF TERM
DESCRIPTION:
LOCATION:
URL:
END:VEVENT
END:VCALENDAR