BEGIN:VCALENDAR
VERSION:2.0
PRODID:-//DP Pro Event Calendar//3.2.7//EN
BEGIN:VEVENT
UID:069b8889-40c6-458b-96b3-b587e1092661
DTSTART;TZID=Europe/London:20250423T080000
DTEND;TZID=Europe/London:20260419T083000
DTSTAMP:20260413T193610Z
SUMMARY:Children return to school
DESCRIPTION:
LOCATION:
URL:
END:VEVENT
END:VCALENDAR