BEGIN:VCALENDAR
VERSION:2.0
PRODID:-//DP Pro Event Calendar//3.2.7//EN
BEGIN:VEVENT
UID:4d4e0a22-db69-4b95-a5d4-0a8b97e44bef
DTSTART;TZID=Europe/London;VALUE=DATE:20250627
DTEND;TZID=Europe/London;VALUE=DATE:20250628
DTSTAMP:20260413T193611Z
SUMMARY:INSET
DESCRIPTION:
LOCATION:
URL:
END:VEVENT
END:VCALENDAR