BEGIN:VCALENDAR
VERSION:2.0
PRODID:-//DP Pro Event Calendar//3.2.7//EN
BEGIN:VEVENT
UID:8ffd98e8-2c00-400d-9787-55b8fd3ef791
DTSTART;TZID=Europe/London:20250604T075000
DTEND;TZID=Europe/London:20260420T081000
DTSTAMP:20260413T193611Z
SUMMARY:YR Reading Morning
DESCRIPTION:
LOCATION:
URL:
END:VEVENT
END:VCALENDAR