BEGIN:VCALENDAR
VERSION:2.0
PRODID:-//DP Pro Event Calendar//3.2.7//EN
BEGIN:VEVENT
UID:f7079c6b-844e-42fa-891f-cf76003f8291
DTSTART;TZID=Europe/London:20250718T134500
DTEND;TZID=Europe/London:20260422T143000
DTSTAMP:20260413T193612Z
SUMMARY:Y2 Leading Mass at School with Y1 and Mini Vinnies
DESCRIPTION:
LOCATION:
URL:
END:VEVENT
END:VCALENDAR