BEGIN:VCALENDAR
VERSION:2.0
PRODID:-//DP Pro Event Calendar//3.2.7//EN
BEGIN:VEVENT
UID:21a5b11d-90e2-4fc5-9a67-5a4ce303273b
DTSTART;TZID=Europe/London;VALUE=DATE:20250801
DTEND;TZID=Europe/London;VALUE=DATE:20250802
DTSTAMP:20260413T193612Z
SUMMARY:SUMMER HOLIDAYS
DESCRIPTION:
LOCATION:
URL:
END:VEVENT
END:VCALENDAR