BEGIN:VCALENDAR
VERSION:2.0
PRODID:-//DP Pro Event Calendar//3.2.7//EN
BEGIN:VEVENT
UID:0a462302-330d-4890-9ce3-9c8e626dde5d
DTSTART;TZID=Europe/London;VALUE=DATE:20250803
DTEND;TZID=Europe/London;VALUE=DATE:20250804
DTSTAMP:20260413T193612Z
SUMMARY:SUMMER HOLIDAYS
DESCRIPTION:
LOCATION:
URL:
END:VEVENT
END:VCALENDAR