BEGIN:VCALENDAR
VERSION:2.0
PRODID:-//DP Pro Event Calendar//3.2.7//EN
BEGIN:VEVENT
UID:27dfae3b-3a58-4c70-a026-cdec81fe6502
DTSTART;TZID=Europe/London;VALUE=DATE:20250808
DTEND;TZID=Europe/London;VALUE=DATE:20250809
DTSTAMP:20260413T193612Z
SUMMARY:SUMMER HOLIDAYS
DESCRIPTION:
LOCATION:
URL:
END:VEVENT
END:VCALENDAR