BEGIN:VCALENDAR
VERSION:2.0
PRODID:-//DP Pro Event Calendar//3.2.7//EN
BEGIN:VEVENT
UID:90e75e99-6196-4b5d-ad4c-23f51960e3f8
DTSTART;TZID=Europe/London;VALUE=DATE:20250819
DTEND;TZID=Europe/London;VALUE=DATE:20250820
DTSTAMP:20260413T193612Z
SUMMARY:SUMMER HOLIDAYS
DESCRIPTION:
LOCATION:
URL:
END:VEVENT
END:VCALENDAR