BEGIN:VCALENDAR
VERSION:2.0
PRODID:-//DP Pro Event Calendar//3.2.7//EN
BEGIN:VEVENT
UID:37415f58-7336-47ce-bc9b-293ecde0ad6e
DTSTART;TZID=Europe/London;VALUE=DATE:20250826
DTEND;TZID=Europe/London;VALUE=DATE:20250827
DTSTAMP:20260413T193612Z
SUMMARY:SUMMER HOLIDAYS
DESCRIPTION:
LOCATION:
URL:
END:VEVENT
END:VCALENDAR