BEGIN:VCALENDAR
VERSION:2.0
PRODID:-//DP Pro Event Calendar//3.2.7//EN
BEGIN:VEVENT
UID:c50e5934-7c2a-498d-9e5c-86a8cb2a5cdd
DTSTART;TZID=Europe/London;VALUE=DATE:20250830
DTEND;TZID=Europe/London;VALUE=DATE:20250831
DTSTAMP:20260413T193612Z
SUMMARY:SUMMER HOLIDAYS
DESCRIPTION:
LOCATION:
URL:
END:VEVENT
END:VCALENDAR