BEGIN:VCALENDAR
VERSION:2.0
PRODID:-//DP Pro Event Calendar//3.2.7//EN
BEGIN:VEVENT
UID:a17078b8-1b87-4bdd-844f-eba2948d4183
DTSTART;TZID=Europe/London;VALUE=DATE:20250901
DTEND;TZID=Europe/London;VALUE=DATE:20250902
DTSTAMP:20260413T193612Z
SUMMARY:SUMMER HOLIDAYS
DESCRIPTION:
LOCATION:
URL:
END:VEVENT
END:VCALENDAR