BEGIN:VCALENDAR
VERSION:2.0
PRODID:-//DP Pro Event Calendar//3.2.7//EN
BEGIN:VEVENT
UID:4c507973-97c6-4bfb-9be3-8ae4288c162e
DTSTART;TZID=Europe/London;VALUE=DATE:20250902
DTEND;TZID=Europe/London;VALUE=DATE:20250903
DTSTAMP:20260413T193612Z
SUMMARY:SUMMER HOLIDAYS
DESCRIPTION:
LOCATION:
URL:
END:VEVENT
END:VCALENDAR