BEGIN:VCALENDAR
VERSION:2.0
PRODID:-//DP Pro Event Calendar//3.2.7//EN
BEGIN:VEVENT
UID:6e8c70ba-241f-41e4-b78b-7e994b4b8e5d
DTSTART;TZID=Europe/London:20250916T080000
DTEND;TZID=Europe/London:20260422T110000
DTSTAMP:20260413T193612Z
SUMMARY:School Nursing Service Y6 Health Screening
DESCRIPTION:
LOCATION:
URL:
END:VEVENT
END:VCALENDAR