BEGIN:VCALENDAR
VERSION:2.0
PRODID:-//DP Pro Event Calendar//3.2.7//EN
BEGIN:VEVENT
UID:8635dd52-5941-42f5-b031-08f2c76a5570
DTSTART;TZID=Europe/London;VALUE=DATE:20251010
DTEND;TZID=Europe/London;VALUE=DATE:20251011
DTSTAMP:20260413T193612Z
SUMMARY:Y6 Bikeability
DESCRIPTION:
LOCATION:
URL:
END:VEVENT
END:VCALENDAR