BEGIN:VCALENDAR
VERSION:2.0
PRODID:-//DP Pro Event Calendar//3.2.7//EN
BEGIN:VEVENT
UID:c2ea4eff-2648-491a-b4ec-c8995f750033
DTSTART;TZID=Europe/London:20251015T080000
DTEND;TZID=Europe/London:20260421T110000
DTSTAMP:20260413T193612Z
SUMMARY:Whole School Flu Vaccines
DESCRIPTION:
LOCATION:
URL:
END:VEVENT
END:VCALENDAR