BEGIN:VCALENDAR
VERSION:2.0
PRODID:-//DP Pro Event Calendar//3.2.7//EN
BEGIN:VEVENT
UID:7f874df0-e8ed-47f5-8a2a-0a048cfa6a77
DTSTART;TZID=Europe/London:20251016T080000
DTEND;TZID=Europe/London:20260421T110000
DTSTAMP:20260413T193612Z
SUMMARY:Sport for Champions Event
DESCRIPTION:
LOCATION:
URL:
END:VEVENT
END:VCALENDAR