BEGIN:VCALENDAR
VERSION:2.0
PRODID:-//DP Pro Event Calendar//3.2.7//EN
BEGIN:VEVENT
UID:5e2ef5ce-9705-4540-bce8-cccbfc5d887b
DTSTART;TZID=Europe/London:20260126T083000
DTEND;TZID=Europe/London:20260422T093000
DTSTAMP:20260413T193614Z
SUMMARY:Y3/4 Meet Stephen Morgan\, MP
DESCRIPTION:
LOCATION:
URL:
END:VEVENT
END:VCALENDAR