BEGIN:VCALENDAR
VERSION:2.0
PRODID:-//DP Pro Event Calendar//3.2.7//EN
BEGIN:VEVENT
UID:2ab47824-8c8c-4a89-8d68-0ec04f530345
DTSTART;TZID=Europe/London;VALUE=DATE:20260127
DTEND;TZID=Europe/London;VALUE=DATE:20260128
DTSTAMP:20260413T193614Z
SUMMARY:Year R School Nursing Visit: Height\, Weight\, Hearing\, Vision
DESCRIPTION:
LOCATION:
URL:
END:VEVENT
END:VCALENDAR