BEGIN:VCALENDAR
VERSION:2.0
PRODID:-//DP Pro Event Calendar//3.2.7//EN
BEGIN:VEVENT
UID:6a35ec26-c7e8-4612-93d0-659d2e449e94
DTSTART;TZID=Europe/London;VALUE=DATE:20260216
DTEND;TZID=Europe/London;VALUE=DATE:20260217
DTSTAMP:20260413T193615Z
SUMMARY:HALF TERM
DESCRIPTION:
LOCATION:
URL:
END:VEVENT
END:VCALENDAR