BEGIN:VCALENDAR
VERSION:2.0
PRODID:-//DP Pro Event Calendar//3.2.7//EN
BEGIN:VEVENT
UID:91d253c6-3fea-4b54-bcd8-0a5cb1e88c21
DTSTART;TZID=Europe/London;VALUE=DATE:20260217
DTEND;TZID=Europe/London;VALUE=DATE:20260218
DTSTAMP:20260413T193615Z
SUMMARY:HALF TERM
DESCRIPTION:
LOCATION:
URL:
END:VEVENT
END:VCALENDAR