BEGIN:VCALENDAR
VERSION:2.0
PRODID:-//DP Pro Event Calendar//3.2.7//EN
BEGIN:VEVENT
UID:46009539-6af9-4d75-a781-75322b900d76
DTSTART;TZID=Europe/London;VALUE=DATE:20260218
DTEND;TZID=Europe/London;VALUE=DATE:20260219
DTSTAMP:20260413T193615Z
SUMMARY:HALF TERM
DESCRIPTION:
LOCATION:
URL:
END:VEVENT
END:VCALENDAR