BEGIN:VCALENDAR
VERSION:2.0
PRODID:-//DP Pro Event Calendar//3.2.7//EN
BEGIN:VEVENT
UID:cdb54b8c-1552-411e-a53d-3cb285ce93c6
DTSTART;TZID=Europe/London;VALUE=DATE:20260219
DTEND;TZID=Europe/London;VALUE=DATE:20260220
DTSTAMP:20260413T193615Z
SUMMARY:HALF TERM
DESCRIPTION:
LOCATION:
URL:
END:VEVENT
END:VCALENDAR