BEGIN:VCALENDAR
VERSION:2.0
PRODID:-//DP Pro Event Calendar//3.2.7//EN
BEGIN:VEVENT
UID:b5917097-59a7-4790-9a3d-e65eadb729f1
DTSTART;TZID=Europe/London;VALUE=DATE:20260220
DTEND;TZID=Europe/London;VALUE=DATE:20260221
DTSTAMP:20260413T193615Z
SUMMARY:HALF TERM
DESCRIPTION:
LOCATION:
URL:
END:VEVENT
END:VCALENDAR