BEGIN:VCALENDAR
VERSION:2.0
PRODID:-//DP Pro Event Calendar//3.2.7//EN
BEGIN:VEVENT
UID:d30cbfa0-edd6-4653-a6df-de7d4a39c1cb
DTSTART;TZID=Europe/London:20260428T110000
DTEND;TZID=Europe/London:20260424T143000
DTSTAMP:20260413T193616Z
SUMMARY:Y6 Swimming
DESCRIPTION:
LOCATION:
URL:
END:VEVENT
END:VCALENDAR